BEGIN:VCALENDAR
VERSION:2.0
PRODID:-//Center for Human Rights - ECPv6.15.20//NONSGML v1.0//EN
CALSCALE:GREGORIAN
METHOD:PUBLISH
X-WR-CALNAME:Center for Human Rights
X-ORIGINAL-URL:https://humanrights.catholic.edu
X-WR-CALDESC:Events for Center for Human Rights
REFRESH-INTERVAL;VALUE=DURATION:PT1H
X-Robots-Tag:noindex
X-PUBLISHED-TTL:PT1H
BEGIN:VTIMEZONE
TZID:UTC
BEGIN:STANDARD
TZOFFSETFROM:+0000
TZOFFSETTO:+0000
TZNAME:UTC
DTSTART:20170101T000000
END:STANDARD
END:VTIMEZONE
BEGIN:VEVENT
DTSTART;VALUE=DATE:20230325
DTEND;VALUE=DATE:20230326
DTSTAMP:20260424T100401
CREATED:20230325T112852Z
LAST-MODIFIED:20250715T230541Z
UID:4962-1679702400-1679788799@humanrights.catholic.edu
SUMMARY:Chinese Embassy Protest
DESCRIPTION:Chinese Embassy Protest				\n				\n				\n				\n																														\n				\n				\n				\n									On March 25\, 2023\, Center for Human Rights Fellow Chen Guangcheng was invited to attend an anti-Communist Party protest outside the Chinese Embassy in Washington\, DC. Guangcheng brought several other renowned human rights activists with him\, including China Aid President Bob Fu and three women whose husbands are currently imprisoned by the Communist Party. The protest was organized by The Catholic University of America’s Young Americans for Freedom.
URL:https://humanrights.catholic.edu/event/chinese-embassy-protest/
ATTACH;FMTTYPE=image/png:https://humanrights.catholic.edu/wp-content/uploads/2024/05/1-5.png
END:VEVENT
BEGIN:VEVENT
DTSTART;VALUE=DATE:20221209
DTEND;VALUE=DATE:20221210
DTSTAMP:20260424T100401
CREATED:20221209T114510Z
LAST-MODIFIED:20250715T230618Z
UID:4964-1670544000-1670630399@humanrights.catholic.edu
SUMMARY:Catholic University Screens "The Hong Konger"
DESCRIPTION:Chinese Embassy Protest				\n				\n				\n				\n																														\n				\n				\n				\n									On March 25\, 2023\, Center for Human Rights Fellow Chen Guangcheng was invited to attend an anti-Communist Party protest outside the Chinese Embassy in Washington\, DC. Guangcheng brought several other renowned human rights activists with him\, including China Aid President Bob Fu and three women whose husbands are currently imprisoned by the Communist Party. The protest was organized by The Catholic University of America’s Young Americans for Freedom.
URL:https://humanrights.catholic.edu/event/catholic-university-screens-the-hong-konger/
ATTACH;FMTTYPE=image/jpeg:https://humanrights.catholic.edu/wp-content/uploads/2024/05/120922-the-hong-konger-movie-screening-015-scaled.jpg
END:VEVENT
BEGIN:VEVENT
DTSTART;TZID=UTC:20221025T080000
DTEND;TZID=UTC:20221025T170000
DTSTAMP:20260424T100401
CREATED:20221022T115722Z
LAST-MODIFIED:20260330T132442Z
UID:4983-1666684800-1666717200@humanrights.catholic.edu
SUMMARY:Fr. Kevin Flannery Explores Conscience and Moral Responsibility in Fifth Annual Human Rights Lecture
DESCRIPTION:Chinese Embassy Protest				\n				\n				\n				\n																														\n				\n				\n				\n									On March 25\, 2023\, Center for Human Rights Fellow Chen Guangcheng was invited to attend an anti-Communist Party protest outside the Chinese Embassy in Washington\, DC. Guangcheng brought several other renowned human rights activists with him\, including China Aid President Bob Fu and three women whose husbands are currently imprisoned by the Communist Party. The protest was organized by The Catholic University of America’s Young Americans for Freedom.
URL:https://humanrights.catholic.edu/event/annual-human-rights-lecture-should-conscience-be-your-guide/
CATEGORIES:Annual Human Rights Lectures
ATTACH;FMTTYPE=image/png:https://humanrights.catholic.edu/wp-content/uploads/2024/05/screenshot-661.png
END:VEVENT
BEGIN:VEVENT
DTSTART;VALUE=DATE:20221025
DTEND;VALUE=DATE:20221026
DTSTAMP:20260424T100401
CREATED:20221025T114648Z
LAST-MODIFIED:20250715T231436Z
UID:4966-1666656000-1666742399@humanrights.catholic.edu
SUMMARY:M.A. in Human Rights Students Visit Victims of Communism Museum
DESCRIPTION:Chinese Embassy Protest				\n				\n				\n				\n																														\n				\n				\n				\n									On March 25\, 2023\, Center for Human Rights Fellow Chen Guangcheng was invited to attend an anti-Communist Party protest outside the Chinese Embassy in Washington\, DC. Guangcheng brought several other renowned human rights activists with him\, including China Aid President Bob Fu and three women whose husbands are currently imprisoned by the Communist Party. The protest was organized by The Catholic University of America’s Young Americans for Freedom.
URL:https://humanrights.catholic.edu/event/m-a-in-human-rights-students-visit-victims-of-communism-museum/
ATTACH;FMTTYPE=image/jpeg:https://humanrights.catholic.edu/wp-content/uploads/2024/05/voa.jpg
END:VEVENT
BEGIN:VEVENT
DTSTART;VALUE=DATE:20221007
DTEND;VALUE=DATE:20221008
DTSTAMP:20260424T100401
CREATED:20221007T114755Z
LAST-MODIFIED:20250715T231517Z
UID:4968-1665100800-1665187199@humanrights.catholic.edu
SUMMARY:Communism and Human Freedom
DESCRIPTION:Chinese Embassy Protest				\n				\n				\n				\n																														\n				\n				\n				\n									On March 25\, 2023\, Center for Human Rights Fellow Chen Guangcheng was invited to attend an anti-Communist Party protest outside the Chinese Embassy in Washington\, DC. Guangcheng brought several other renowned human rights activists with him\, including China Aid President Bob Fu and three women whose husbands are currently imprisoned by the Communist Party. The protest was organized by The Catholic University of America’s Young Americans for Freedom.
URL:https://humanrights.catholic.edu/event/communism-and-human-freedom/
ATTACH;FMTTYPE=image/png:https://humanrights.catholic.edu/wp-content/uploads/2024/05/screenshot-680.png
END:VEVENT
BEGIN:VEVENT
DTSTART;VALUE=DATE:20220519
DTEND;VALUE=DATE:20220520
DTSTAMP:20260424T100401
CREATED:20220519T114916Z
LAST-MODIFIED:20250715T231552Z
UID:4970-1652918400-1653004799@humanrights.catholic.edu
SUMMARY:Tenth Anniversary of Cheng Guangcheng's Arrival in America
DESCRIPTION:Chinese Embassy Protest				\n				\n				\n				\n																														\n				\n				\n				\n									On March 25\, 2023\, Center for Human Rights Fellow Chen Guangcheng was invited to attend an anti-Communist Party protest outside the Chinese Embassy in Washington\, DC. Guangcheng brought several other renowned human rights activists with him\, including China Aid President Bob Fu and three women whose husbands are currently imprisoned by the Communist Party. The protest was organized by The Catholic University of America’s Young Americans for Freedom.
URL:https://humanrights.catholic.edu/event/tenth-anniversary-of-cheng-guangchengs-arrival-in-america/
ATTACH;FMTTYPE=image/jpeg:https://humanrights.catholic.edu/wp-content/uploads/2024/05/group2-scaled.jpg
END:VEVENT
BEGIN:VEVENT
DTSTART;TZID=UTC:20220427T080000
DTEND;TZID=UTC:20220427T170000
DTSTAMP:20260424T100401
CREATED:20220427T115033Z
LAST-MODIFIED:20250715T230816Z
UID:4972-1651046400-1651078800@humanrights.catholic.edu
SUMMARY:The Inter-American Human Rights System: Challenges to Its Legitimacy and The Road Ahead
DESCRIPTION:Chinese Embassy Protest				\n				\n				\n				\n																														\n				\n				\n				\n									On March 25\, 2023\, Center for Human Rights Fellow Chen Guangcheng was invited to attend an anti-Communist Party protest outside the Chinese Embassy in Washington\, DC. Guangcheng brought several other renowned human rights activists with him\, including China Aid President Bob Fu and three women whose husbands are currently imprisoned by the Communist Party. The protest was organized by The Catholic University of America’s Young Americans for Freedom.
URL:https://humanrights.catholic.edu/event/the-inter-american-human-rights-system-challenges-to-its-legitimacy-and-the-road-ahead/
ATTACH;FMTTYPE=image/jpeg:https://humanrights.catholic.edu/wp-content/uploads/2024/05/2022-0426-intraamericanhumanrights-03-scaled.jpg
END:VEVENT
BEGIN:VEVENT
DTSTART;VALUE=DATE:20211019
DTEND;VALUE=DATE:20211020
DTSTAMP:20260424T100401
CREATED:20211019T115122Z
LAST-MODIFIED:20260330T132456Z
UID:4974-1634601600-1634687999@humanrights.catholic.edu
SUMMARY:Sam Brownback in Conversation on Religious Freedom at Fourth Annual Human Rights Lecture
DESCRIPTION:Chinese Embassy Protest				\n				\n				\n				\n																														\n				\n				\n				\n									On March 25\, 2023\, Center for Human Rights Fellow Chen Guangcheng was invited to attend an anti-Communist Party protest outside the Chinese Embassy in Washington\, DC. Guangcheng brought several other renowned human rights activists with him\, including China Aid President Bob Fu and three women whose husbands are currently imprisoned by the Communist Party. The protest was organized by The Catholic University of America’s Young Americans for Freedom.
URL:https://humanrights.catholic.edu/event/annual-human-rights-lecture-ambassador-sam-brownback-in-conversation-with-william-saunders-on-human-rights-and-international-religious-freedom/
CATEGORIES:Annual Human Rights Lectures
ATTACH;FMTTYPE=image/png:https://humanrights.catholic.edu/wp-content/uploads/2024/05/screenshot-319.png
END:VEVENT
BEGIN:VEVENT
DTSTART;VALUE=DATE:20201015
DTEND;VALUE=DATE:20201016
DTSTAMP:20260424T100401
CREATED:20201015T115239Z
LAST-MODIFIED:20260330T132516Z
UID:4976-1602720000-1602806399@humanrights.catholic.edu
SUMMARY:Anderson\, Carozza\, and Tollefsen Join Saunders for Third Human Rights Lecture
DESCRIPTION:Chinese Embassy Protest				\n				\n				\n				\n																														\n				\n				\n				\n									On March 25\, 2023\, Center for Human Rights Fellow Chen Guangcheng was invited to attend an anti-Communist Party protest outside the Chinese Embassy in Washington\, DC. Guangcheng brought several other renowned human rights activists with him\, including China Aid President Bob Fu and three women whose husbands are currently imprisoned by the Communist Party. The protest was organized by The Catholic University of America’s Young Americans for Freedom.
URL:https://humanrights.catholic.edu/event/annual-human-rights-lecture-the-report-of-the-unalienable-human-rights-commission/
CATEGORIES:Annual Human Rights Lectures
ATTACH;FMTTYPE=image/png:https://humanrights.catholic.edu/wp-content/uploads/2024/05/flag-nyc.png
END:VEVENT
BEGIN:VEVENT
DTSTART;TZID=UTC:20191009T080000
DTEND;TZID=UTC:20191009T170000
DTSTAMP:20260424T100401
CREATED:20191009T115536Z
LAST-MODIFIED:20260330T132537Z
UID:4980-1570608000-1570640400@humanrights.catholic.edu
SUMMARY:Second Annual Human Rights Lecture Commemorates 30th Anniversary of Tiananmen Square
DESCRIPTION:Chinese Embassy Protest				\n				\n				\n				\n																														\n				\n				\n				\n									On March 25\, 2023\, Center for Human Rights Fellow Chen Guangcheng was invited to attend an anti-Communist Party protest outside the Chinese Embassy in Washington\, DC. Guangcheng brought several other renowned human rights activists with him\, including China Aid President Bob Fu and three women whose husbands are currently imprisoned by the Communist Party. The protest was organized by The Catholic University of America’s Young Americans for Freedom.
URL:https://humanrights.catholic.edu/event/thirty-years-after-tiananmen-square-human-rights-in-china-today/
CATEGORIES:Annual Human Rights Lectures
ATTACH;FMTTYPE=image/png:https://humanrights.catholic.edu/wp-content/uploads/2024/05/ihe-site-header-3-1.png
END:VEVENT
BEGIN:VEVENT
DTSTART;VALUE=DATE:20180925
DTEND;VALUE=DATE:20180926
DTSTAMP:20260424T100401
CREATED:20180925T115437Z
LAST-MODIFIED:20260330T132559Z
UID:4978-1537833600-1537919999@humanrights.catholic.edu
SUMMARY:Robert George Discusses Religious Freedom and Human Rights at Inaugural Lecture
DESCRIPTION:Chinese Embassy Protest				\n				\n				\n				\n																														\n				\n				\n				\n									On March 25\, 2023\, Center for Human Rights Fellow Chen Guangcheng was invited to attend an anti-Communist Party protest outside the Chinese Embassy in Washington\, DC. Guangcheng brought several other renowned human rights activists with him\, including China Aid President Bob Fu and three women whose husbands are currently imprisoned by the Communist Party. The protest was organized by The Catholic University of America’s Young Americans for Freedom.
URL:https://humanrights.catholic.edu/event/a-conversation-with-robert-george-commemorating-the-70th-anniversary-of-the-universal-declaration-of-human-rights/
CATEGORIES:Annual Human Rights Lectures
ATTACH;FMTTYPE=image/jpeg:https://humanrights.catholic.edu/wp-content/uploads/2024/05/1599px-robert_p._george_39223968114-e1530364003915.jpg
END:VEVENT
END:VCALENDAR